BEGIN:VCALENDAR
VERSION:2.0
PRODID:-//eventon.com NONSGML v1.0//EN
CALSCALE:GREGORIAN
METHOD:PUBLISH
BEGIN:VEVENT
UID:69e79e4b51a0c
DTSTAMP:20260421T155659Z
DTSTART:20241206T230000Z
DTEND:20241207T020000Z
LOCATION:American Brass 2-01 50th Ave\, 
SUMMARY:AMERICAN BRASS
DESCRIPTION:LIC boasts some very fine restaurants near GANTRY PLAZA state p
 ark. American Brass is one of the most luxurious and most prominently locat
 ed. Matthew Piazzi and the Debonairs will be appearing from 6-9pm. So come 
 join in on the fun!\nhttps://matthewpiazzi.com/events/american-brass-9/
URL:https://matthewpiazzi.com/events/american-brass-9/
END:VEVENT
END:VCALENDAR