BEGIN:VCALENDAR
VERSION:2.0
PRODID:-//eventon.com NONSGML v1.0//EN
CALSCALE:GREGORIAN
METHOD:PUBLISH
BEGIN:VEVENT
UID:69ea33daec619
DTSTAMP:20260423T145938Z
DTSTART:20250613T220000Z
DTEND:20250614T010000Z
LOCATION:American Brass 2-01 50th Ave\, 
SUMMARY:American Brass
DESCRIPTION:LIC boasts some very fine restaurants near GANTRY PLAZA state p
 ark. American Brass is one of the most exquisite located right along the wa
 terfront. Matthew Piazzi and the Debonairs will be appearing on this night 
 for your listening and dancing pleasure.\nhttps://matthewpiazzi.com/events/
 american-brass-jun-13/
URL:https://matthewpiazzi.com/events/american-brass-jun-13/
END:VEVENT
END:VCALENDAR