BEGIN:VCALENDAR
VERSION:2.0
PRODID:-//eventon.com NONSGML v1.0//EN
CALSCALE:GREGORIAN
METHOD:PUBLISH
BEGIN:VEVENT
UID:69e7fdcd22f75
DTSTAMP:20260421T224429Z
DTSTART:20250920T230000Z
DTEND:20250921T020000Z
LOCATION:Lou Lou Petit Bistro 176 8th Avenue\,  New York\,  NY 10011
SUMMARY:LOU LOU PETIT BISTRO | Adélaïde's Salon
DESCRIPTION:Matthew Piazzi &amp; The Debonairs will appear at Adélaïde&#8
 217;s Salon! This exclusive intimate speakeasy style club is on the lower l
 evel of LOU LOU petit bistro. Enter through the Coke Machine and head downs
 tairs! You&#8217;re in for a real treat that may include some surprise Burl
 esque acts! Adélaïde&#8217;s Salon features[..]\nhttps://matthewpiazzi.co
 m/events/lou-lou-petit-bistro-adelaides-salon-apr20/
URL:https://matthewpiazzi.com/events/lou-lou-petit-bistro-adelaides-salon-apr20/
END:VEVENT
END:VCALENDAR