BEGIN:VCALENDAR
VERSION:2.0
PRODID:-//eventon.com NONSGML v1.0//EN
CALSCALE:GREGORIAN
METHOD:PUBLISH
BEGIN:VEVENT
UID:69e79f80a3969
DTSTAMP:20260421T160208Z
DTSTART:20251017T223000Z
DTEND:20251018T013000Z
LOCATION:American Brass 2-01 50th Ave\, 
SUMMARY:American Brass
DESCRIPTION:Matthew Piazzi and the Debonairs will be appearing on this nigh
 t for your listening and dancing pleasure. LIC boasts some very fine restau
 rants near GANTRY PLAZA state park. American Brass is one of the most exqui
 site located right along the waterfront.\nhttps://matthewpiazzi.com/events/
 american-brass-oct17/
URL:https://matthewpiazzi.com/events/american-brass-oct17/
END:VEVENT
END:VCALENDAR