BEGIN:VCALENDAR
VERSION:2.0
PRODID:-//eventon.com NONSGML v1.0//EN
CALSCALE:GREGORIAN
METHOD:PUBLISH
BEGIN:VEVENT
UID:69e732651ceb7
DTSTAMP:20260421T081637Z
DTSTART:20260409T074500Z
DTEND:20260409T084500Z
LOCATION:The Kensington 100 Maple Ave
SUMMARY:Private Function at The Kensington
DESCRIPTION:Nick Palumbo along with dancers Paolo &amp; Laurentina performs
  for a private function Sock Hop  at The Kensingon White Plains\nhttps://m
 atthewpiazzi.com/events/private-function-4/
URL:https://matthewpiazzi.com/events/private-function-4/
END:VEVENT
END:VCALENDAR